BEGIN:VCALENDAR
VERSION:2.0
PRODID:-//Squarespace Inc/Squarespace 6//v6//EN
BEGIN:VEVENT
UID:5aa0ccc371c10bdd94d54580@squarespace.com
DTSTAMP:20180311T034714Z
DTSTART:20180414T040000Z
DTEND:20180414T070000Z
SUMMARY:Raspberry Red Velvet Cake by Ike Malada
GEO:-33.814429;151.106865
LOCATION:KOI Dessert Kitchen
END:VEVENT
END:VCALENDAR
