BEGIN:VCALENDAR
VERSION:2.0
PRODID:-//Squarespace Inc/Squarespace 6//v6//EN
BEGIN:VEVENT
UID:5adec8232b6a28995d51a443@squarespace.com
DTSTAMP:20180508T080344Z
DTSTART:20180520T040000Z
DTEND:20180520T070000Z
SUMMARY:Matcha Tiramisu Jar by Ike Malada
GEO:-33.814429;151.106865
LOCATION:KOI Dessert Kitchen
END:VEVENT
END:VCALENDAR
