BEGIN:VCALENDAR
VERSION:2.0
PRODID:-//Squarespace Inc/Squarespace 6//v6//EN
BEGIN:VEVENT
UID:5935171b197aeac1169edf77@squarespace.com
DTSTAMP:20180720T023846Z
DTSTART:20180729T040000Z
DTEND:20180729T070000Z
SUMMARY:Lemon Meringue in the Jar by Ike Malada
GEO:-33.814429;151.106865
LOCATION:KOI Dessert Kitchen
END:VEVENT
END:VCALENDAR
