BEGIN:VCALENDAR
VERSION:2.0
PRODID:-//Squarespace Inc/Squarespace 6//v6//EN
BEGIN:VEVENT
UID:5be64737758d46cdc3d0bbbe@squarespace.com
DTSTAMP:20181113T053510Z
DTSTART:20181211T000000Z
DTEND:20181211T020000Z
SUMMARY:Kids Christmas Chocolate Block by Ike Malada
GEO:-33.814429;151.106865
LOCATION:KOI Dessert Kitchen
END:VEVENT
END:VCALENDAR
