BEGIN:VCALENDAR
VERSION:2.0
PRODID:-//Squarespace Inc/Squarespace 6//v6//EN
BEGIN:VEVENT
UID:5a797f62ec212d6f77c656cc@squarespace.com
DTSTAMP:20180424T060518Z
DTSTART:20180421T040000Z
DTEND:20180421T070000Z
SUMMARY:Chocolate Entremet Cake by Ike Malada
GEO:-33.814429;151.106865
LOCATION:KOI Dessert Kitchen
END:VEVENT
END:VCALENDAR
