BEGIN:VCALENDAR
VERSION:2.0
PRODID:-//Squarespace Inc/Squarespace 6//v6//EN
BEGIN:VEVENT
UID:5ae15a6f0e2e72a55659adf0@squarespace.com
DTSTAMP:20180426T050021Z
DTSTART:20180527T010000Z
DTEND:20180527T060000Z
SUMMARY:Brownie With Profiteroles Tart by Ike Malada
GEO:-33.814429;151.106865
LOCATION:KOI Dessert Kitchen
END:VEVENT
END:VCALENDAR
