BEGIN:VCALENDAR
VERSION:2.0
PRODID:-//Squarespace Inc/Squarespace 6//v6//EN
BEGIN:VEVENT
UID:5b33181bf950b7fadb8b30ea@squarespace.com
DTSTAMP:20181031T100535Z
DTSTART:20180908T040000Z
DTEND:20180908T070000Z
SUMMARY:Cherry Tart by Ike Malada
GEO:-33.814429;151.106865
LOCATION:KOI Dessert Kitchen
END:VEVENT
END:VCALENDAR
