BEGIN:VCALENDAR
VERSION:2.0
PRODID:-//Squarespace Inc/Squarespace 6//v6//EN
BEGIN:VEVENT
UID:5abb4afe70a6ad93230c7f0c@squarespace.com
DTSTAMP:20180703T010249Z
DTSTART:20180624T000000Z
DTEND:20180624T060000Z
SUMMARY:Watercolour Workshop by Thao Pham (Don't Tell Charles)
GEO:-33.814429;151.106865
LOCATION:KOI Dessert Kitchen
END:VEVENT
END:VCALENDAR
