BEGIN:VCALENDAR
VERSION:2.0
PRODID:-//Squarespace Inc/Squarespace 6//v6//EN
BEGIN:VEVENT
UID:5a28c8d0e2c483218c7a37a2@squarespace.com
DTSTAMP:20180206T101538Z
DTSTART:20180218T030000Z
DTEND:20180218T060000Z
SUMMARY:Black Sesame Cake Slice by Ike Malada
GEO:-33.814429;151.106865
LOCATION:KOI Dessert Kitchen
END:VEVENT
END:VCALENDAR
