BEGIN:VCALENDAR
VERSION:2.0
PRODID:-//Squarespace Inc/Squarespace 6//v6//EN
BEGIN:VEVENT
UID:5a28c71f0d9297f0660a05ba@squarespace.com
DTSTAMP:20180206T101450Z
DTSTART:20180210T030000Z
DTEND:20180210T060000Z
SUMMARY:Pear Fruit by Ike Malada
GEO:-33.814429;151.106865
LOCATION:KOI Dessert Kitchen
END:VEVENT
END:VCALENDAR
