BEGIN:VCALENDAR
VERSION:2.0
PRODID:-//Squarespace Inc/Squarespace 6//v6//EN
BEGIN:VEVENT
UID:59815a9b3a041103d798e69f@squarespace.com
DTSTAMP:20170802T053551Z
DTSTART:20170821T020000Z
DTEND:20170821T060000Z
SUMMARY:Endless Love by Bernard Chu
GEO:-33.814429;151.106865
LOCATION:KOI Dessert Kitchen
END:VEVENT
END:VCALENDAR
