BEGIN:VCALENDAR
VERSION:2.0
PRODID:-//Squarespace Inc/Squarespace 6//v6//EN
BEGIN:VEVENT
UID:59570fe837c58105de3d6dca@squarespace.com
DTSTAMP:20170701T031501Z
DTSTART:20170722T030000Z
DTEND:20170722T070000Z
SUMMARY:Cake Decorating with Anita Tanto
GEO:-33.814429;151.106865
LOCATION:KOI Dessert Kitchen
END:VEVENT
END:VCALENDAR
