BEGIN:VCALENDAR
VERSION:2.0
PRODID:-//Squarespace Inc/Squarespace 6//v6//EN
BEGIN:VEVENT
UID:595711d215d5db92690ddb7e@squarespace.com
DTSTAMP:20170701T032143Z
DTSTART:20170717T013000Z
DTEND:20170717T090000Z
SUMMARY:Eclair Gelato Demonstration By David Lopresti
GEO:-33.814429;151.106865
LOCATION:KOI Dessert Kitchen
END:VEVENT
END:VCALENDAR
