BEGIN:VCALENDAR
VERSION:2.0
PRODID:-//Squarespace Inc/Squarespace 6//v6//EN
BEGIN:VEVENT
UID:5957164b15d5db92690e001a@squarespace.com
DTSTAMP:20170711T042206Z
DTSTART:20170715T040000Z
DTEND:20170715T080000Z
SUMMARY:Tart Art with Ike Malada
GEO:-33.814429;151.106865
LOCATION:KOI Dessert Kitchen
END:VEVENT
END:VCALENDAR
