BEGIN:VCALENDAR
VERSION:2.0
PRODID:-//Squarespace Inc/Squarespace 6//v6//EN
BEGIN:VEVENT
UID:59351b2af5e231a946fe3eea@squarespace.com
DTSTAMP:20170613T023634Z
DTSTART:20170626T020000Z
DTEND:20170626T110000Z
SUMMARY:Nomtella By Reynold Poernomo
GEO:-33.814429;151.106865
LOCATION:KOI Dessert Kitchen
END:VEVENT
END:VCALENDAR
