BEGIN:VCALENDAR
VERSION:2.0
PRODID:-//Squarespace Inc/Squarespace 6//v6//EN
BEGIN:VEVENT
UID:59351569893fc0229413011d@squarespace.com
DTSTAMP:20170701T031624Z
DTSTART:20170628T050000Z
DTEND:20170628T063000Z
SUMMARY:Cement Cake by Gigi Falanga
GEO:-33.814429;151.106865
LOCATION:KOI Dessert Kitchen
END:VEVENT
END:VCALENDAR
