BEGIN:VCALENDAR
VERSION:2.0
PRODID:-//Squarespace Inc/Squarespace 6//v6//EN
BEGIN:VEVENT
UID:58d5faf09de4bba5f5dca93c@squarespace.com
DTSTAMP:20170329T062433Z
DTSTART:20170405T233000Z
DTEND:20170419T120000Z
SUMMARY:Sydney Royal Easter Show
GEO:-33.844551;151.068626
LOCATION:Sydney Showround\, 1 Showground Road\, Sydney Olympic Park\, NSW\, 
 2127\, Australia
END:VEVENT
END:VCALENDAR
