BEGIN:VCALENDAR
VERSION:2.0
PRODID:-//Squarespace Inc/Squarespace 6//v6//EN
BEGIN:VEVENT
UID:5905b887f5e2319ca1335aa5@squarespace.com
DTSTAMP:20170511T055130Z
DTSTART:20170518T010000Z
DTEND:20170518T030000Z
SUMMARY:Dessert Masterclass by Christy Tania
GEO:-33.814506;151.106574
LOCATION:KOI Dessert Kitchen\, Shop 3\, 62 - 66 Blaxland Rd\, Ryde
END:VEVENT
END:VCALENDAR
