BEGIN:VCALENDAR
VERSION:2.0
PRODID:-//Squarespace Inc/Squarespace 6//v6//EN
BEGIN:VEVENT
UID:58a646e0d1758efb58f095ad@squarespace.com
DTSTAMP:20170217T005448Z
DTSTART:20170310T060000Z
DTEND:20170312T060000Z
SUMMARY:Parramasala 2017
GEO:-33.809235;151.004368
LOCATION:Prince Alfred Square
END:VEVENT
END:VCALENDAR
