BEGIN:VCALENDAR
VERSION:2.0
PRODID:-//Squarespace Inc/Squarespace 6//v6//EN
BEGIN:VEVENT
UID:588ae439414fb5965b67c3ad@squarespace.com
DTSTAMP:20170131T050201Z
DTSTART:20170204T040000Z
DTEND:20170204T090000Z
SUMMARY:The Light of Dawn
GEO:-33.885475;151.201953
LOCATION:KOI Dessert Bar\, 46 Kensington Street\, Chippendale\, NSW\, 2008\
 , Australia
END:VEVENT
END:VCALENDAR
