BEGIN:VCALENDAR
VERSION:2.0
PRODID:-//Squarespace Inc/Squarespace 6//v6//EN
BEGIN:VEVENT
UID:58196ab159cc68498542cc9c@squarespace.com
DTSTAMP:20161102T043155Z
DTSTART:20161112T050000Z
DTEND:20161112T110000Z
SUMMARY:Loy Krathong Festival
GEO:-33.812051;151.008224
LOCATION:Parramatta River Forshore\, 1 Elizabeth St\, Parramatta\, NSW\, 21
 50\, Australia
END:VEVENT
END:VCALENDAR
